BEGIN:VCALENDAR
VERSION:2.0
PRODID:-//Bürgervereinigung Rodenkirchen - ECPv6.15.20//NONSGML v1.0//EN
CALSCALE:GREGORIAN
METHOD:PUBLISH
X-WR-CALNAME:Bürgervereinigung Rodenkirchen
X-ORIGINAL-URL:https://www.buergervereinigung-rodenkirchen.de
X-WR-CALDESC:Veranstaltungen für Bürgervereinigung Rodenkirchen
REFRESH-INTERVAL;VALUE=DURATION:PT1H
X-Robots-Tag:noindex
X-PUBLISHED-TTL:PT1H
BEGIN:VTIMEZONE
TZID:Europe/Berlin
BEGIN:DAYLIGHT
TZOFFSETFROM:+0100
TZOFFSETTO:+0200
TZNAME:CEST
DTSTART:20240331T010000
END:DAYLIGHT
BEGIN:STANDARD
TZOFFSETFROM:+0200
TZOFFSETTO:+0100
TZNAME:CET
DTSTART:20241027T010000
END:STANDARD
BEGIN:DAYLIGHT
TZOFFSETFROM:+0100
TZOFFSETTO:+0200
TZNAME:CEST
DTSTART:20250330T010000
END:DAYLIGHT
BEGIN:STANDARD
TZOFFSETFROM:+0200
TZOFFSETTO:+0100
TZNAME:CET
DTSTART:20251026T010000
END:STANDARD
BEGIN:DAYLIGHT
TZOFFSETFROM:+0100
TZOFFSETTO:+0200
TZNAME:CEST
DTSTART:20260329T010000
END:DAYLIGHT
BEGIN:STANDARD
TZOFFSETFROM:+0200
TZOFFSETTO:+0100
TZNAME:CET
DTSTART:20261025T010000
END:STANDARD
END:VTIMEZONE
BEGIN:VEVENT
DTSTART;TZID=Europe/Berlin:20250427T130000
DTEND;TZID=Europe/Berlin:20250427T180000
DTSTAMP:20260426T062937
CREATED:20250312T052209Z
LAST-MODIFIED:20250415T080310Z
UID:14451-1745758800-1745776800@www.buergervereinigung-rodenkirchen.de
SUMMARY:Fotoausstellung Rodenkirchen mit Special zu „50 Jahre Eingemeindung Rodenkirchen“
DESCRIPTION:Plakat gegen Eingemeindung 1974 \nGestern und heute: Fotoausstellung Rodenkirchen zur 23. Kunstmeile (Foto aus Katalog 2024) \nZur Fotoausstellung Rodenkirchen mit einem Special zu „50 Jahre Eingemeindung Rodenkirchen“ lädt die Bürgervereinigung Rodenkirchen im Rahmen der 23. Kunstmeile ein\, die nun Kunst & KulturMeile Rodenkirchen heißt. \nAm Sonntag\, 27. April 2025 zeigt die Bürgervereinigung an ihrem Stand von 13 bis 18 Uhr in ihrer Fotoausstellung am Maternusplatz zahlreiche historische Foto-Schätze aus dem alten Rodenkirchen und setzt sie in Kontrast zu den heutigen Ansichten. \nUnser Special erinnert auch an ein Ereignis\, das nun 50 Jahre her ist. Das damals heftig umstrittene Geschehnis der Eingemeindung Rodenkirchen zur Stadt Köln im Jahr 1975. Auch zu diesem Thema gibt es auf unserer Fotoausstellung am 27.4. fotografische Objekte und Dokumente zu sehen. \nEntdeckungsreise Fotoausstellung Rodenkirchen\nUnsere alten Fotos aus Rodenkirchen zeigen einzigartige historische Ansichten aus Rodenkirchen. Sie werden in Bezug gesetzt zu Fotos den aktuellen Ansichten. Viele alte und sehr alte Fotos sind dieses und letztes Jahr für die Kunstmeile neu aufbereitet und mit Bildern von heute ergänzt. Zahlreiche Fotoschätze haben uns Karin Ahrens und Peter Andreae (VHS-Fotokurs von Herrn Renkawitz) aus ihren privaten Sammlungen zur Verfügung gestellt. Dafür danken wir ihnen herzlich. Andere Aufnahmen sind aus dem Archiv-Bestand der Bürgervereinigung Rodenkirchen. \nSo war es bei unserer Fotoausstellung im letzten Jahr: https://www.buergervereinigung-rodenkirchen.de/rodenkirchen-gestern-und-heute-foto-ausstellung-22-kunstmeile \n23. Kunstmeile Rodenkirchen vom 27. April – 11. Mai 2025 \nVeranstalter der Kunst & KulturMeile Rodenkirchen ist der Treffpunkt Rodenkirchen. Viele etablierte und junge Künstlerinnen und Künstler präsentieren auf in Rodenkirchen ihre Arbeiten zwei Wochen lang. Das machen sie in Geschäften\, bei Dienstleistern\, in Büros und Schulen. So gibt es unter anderem musikalische Auftritte\, am Sonntag eine Mitmachaktionen mit Straßenkreide für Kinder & Jugendliche und Catering auf dem Maternusplatz. Mehr Informationen mit dem kompletten Programm der 23. Kunstmeile Rodenkirchen finden Sie auf https://treffpunkt-rodenkirchen.koeln/\nDieses Jahr gibt es wieder einen gedruckten Katalog\, den Sie sich bei Juwelier Behrendt (Maternusstr. 14 a) kurz vor Beginn der Kunst & KulturMeile abholen können. \nAm Sonntag 27. April 2025 findet um 12 Uhr die offizielle Eröffnung auf dem Matrenusplatz statt. \nAm Sonntag ist in Rodenkirchen zudem verkaufsoffener Sonntag ab 13 Uhr und alle Ausstellungsorte sind geöffnet. \nWeitere Veranstaltungen „50 Jahre Eingemeindung Rodenkirchen“\nUmfrage 1972 zur Eingemeindung von Rodenkirchen \nWeitere Veranstaltungen & Events zur Geschichte der Eingemeindung\, beispielsweise ein Talk mit Zeitzeugen\, Musik aus 1975 und vieles mehr\, sind am 21. Juni (unser traditionelles Sommersonnenwende-Fest für unsere Mitglieder)\, am 31.5. in Zusammenarbeit mit dem Bezirk und der Stadt Köln sowie am 25. November nach unserer Mitgliederversammlung geplant. Dazu gibt es in Kürze mehr Informationen. \n  \n  \n  \n  \n  \n  \n 
URL:https://www.buergervereinigung-rodenkirchen.de/event/fotoausstellung-rodenkirchen-mit-special-zu-50-jahre-eingemeindung-rodenkirchen
LOCATION:Maternusplatz\, Maternusplatz\, Köln\, 50996
CATEGORIES:Veranstaltung
ATTACH;FMTTYPE=image/jpeg:https://www.buergervereinigung-rodenkirchen.de/wp-content/uploads/2025/03/eingemeindung_rodenkirchen_laura-schaldach.jpg
END:VEVENT
END:VCALENDAR