BEGIN:VCALENDAR
VERSION:2.0
PRODID:-//Bürgervereinigung Rodenkirchen - ECPv6.15.20//NONSGML v1.0//EN
CALSCALE:GREGORIAN
METHOD:PUBLISH
X-WR-CALNAME:Bürgervereinigung Rodenkirchen
X-ORIGINAL-URL:https://www.buergervereinigung-rodenkirchen.de
X-WR-CALDESC:Veranstaltungen für Bürgervereinigung Rodenkirchen
REFRESH-INTERVAL;VALUE=DURATION:PT1H
X-Robots-Tag:noindex
X-PUBLISHED-TTL:PT1H
BEGIN:VTIMEZONE
TZID:Europe/Berlin
BEGIN:DAYLIGHT
TZOFFSETFROM:+0100
TZOFFSETTO:+0200
TZNAME:CEST
DTSTART:20250330T010000
END:DAYLIGHT
BEGIN:STANDARD
TZOFFSETFROM:+0200
TZOFFSETTO:+0100
TZNAME:CET
DTSTART:20251026T010000
END:STANDARD
BEGIN:DAYLIGHT
TZOFFSETFROM:+0100
TZOFFSETTO:+0200
TZNAME:CEST
DTSTART:20260329T010000
END:DAYLIGHT
BEGIN:STANDARD
TZOFFSETFROM:+0200
TZOFFSETTO:+0100
TZNAME:CET
DTSTART:20261025T010000
END:STANDARD
BEGIN:DAYLIGHT
TZOFFSETFROM:+0100
TZOFFSETTO:+0200
TZNAME:CEST
DTSTART:20270328T010000
END:DAYLIGHT
BEGIN:STANDARD
TZOFFSETFROM:+0200
TZOFFSETTO:+0100
TZNAME:CET
DTSTART:20271031T010000
END:STANDARD
END:VTIMEZONE
BEGIN:VEVENT
DTSTART;TZID=Europe/Berlin:20260415T140000
DTEND;TZID=Europe/Berlin:20260415T160000
DTSTAMP:20260421T142610
CREATED:20260311T160754Z
LAST-MODIFIED:20260312T065839Z
UID:16737-1776261600-1776268800@www.buergervereinigung-rodenkirchen.de
SUMMARY:Kohl & Sohn erleben!
DESCRIPTION:Luftaufnahme Kohl & Sohn Copyright: Kohl & Sohn \nZur Betriebsbesichtigung bei Kohl & Sohn lädt die Bürgervereinigung am Mittwoch\, 15. April in der Zeit von 14 bis 16 Uhr ein. \nBereits im Jahr 2014 war die Bürgervereinigung hier zu Besuch und hat das vor über 125 Jahren gegründete Unternehmen besichtigt. Bis 1997 war das Familienunternehmen in vierter Generation mitten in Rodenkirchen ansässig\, wo heute die Alexianer das Hotel Begardenhof sowie soziale Einrichtungen betreiben. \nZwischenzeitlich hat sich sehr viel insbesondere in den Bereichen Automatisierung und Nachhaltigkeit bei Kohl & Sohn getan. Darüber erfahren die Gäste während der Führung. Teilnehmen können maximal 30 Personen. \nAnmeldung  \nDie Gruppe trifft sich 13:45 Uhr am Eingang von Kohl & Sohn\, Wankelstraße. 7\, 50996 Köln (Industriegebiet Rodenkirchen\, gegenüber Bordeaux Wein Direkt. Bitte möglichst in der Wankelstraße parken. \n  \nÜber Kohl & Sohn\nKohl & Sohn ist auf die Fertigung von größeren Umformteilen und komplexen Schweißbaugruppen aus Stahl\, Edelstahl und Aluminium spezialisiert. Die Mitarbeitenden arbeiten hier in einem modernen Maschinenpark. Dieser besteht schwerpunktmäßig aus Tiefziehpressen\, Laserschneidanlagen und Schweißroboterzel \nOb Bauteile für Landmaschinen\, Batterietüren und Hauben für Gabelstapler\, Chassis für Elektrohubwagen oder auch Elemente für automatisierte Logistiksysteme – Kohl & Sohn formt Komponenten für anspruchsvolle Endprodukte. Von der Planung und Beratung über die Konzeption und Entwicklung der Fertigungstechnik bis hin zum fertigen Einbauteil für das Endprodukt. Im eigenen Werkzeugbau können Werkzeuge und Vorrichtungen mit einer Größe von bis zu 2.800mm x 1.600mm und einem Gewicht von bis zu zehn Tonnen hergestellt werden. \n  \nDie Goldene Mitte\nDer Mittelständler macht das\, was die „Kleinen“ nicht können und die „Großen“ nicht wollen: Das bedeutet die konsequente Ausrichtung auf kleine und mittlere Serien. Gleichzeitig profitiert jeder Kunde von dem 360°-Service aus einer Hand entlang der gesamten prozessualen Wertschöpfungskette. Angefangen bei der eingehenden\, entwicklungsbegleitenden Beratung\, über die Fertigung der Werkzeuge und Vorrichtungen im eigenen Haus und der Serienbelieferung über die gesamte Lebensdauer der Bauteile. Die Lieferung über verschiedene Logistiksysteme wie Just in time\, Just in Sequence\, Kanban oder Konsignationslager sind täglich gelebte Praxis. \nMehr Informationen https://www.kohl-gruppe-ag.de/de/ \n \nCopyright alle Foto: Kohl & Sohn
URL:https://www.buergervereinigung-rodenkirchen.de/event/kohl-sohn-erleben
LOCATION:Kohl & Sohn\, Wankelstraße 7\, Köln\, NRW\, 50996
CATEGORIES:Besichtigung,Führung
ATTACH;FMTTYPE=image/jpeg:https://www.buergervereinigung-rodenkirchen.de/wp-content/uploads/2026/02/kohl_und_sohn_gebauede.jpg
END:VEVENT
END:VCALENDAR