BEGIN:VCALENDAR
VERSION:2.0
PRODID:-//Bürgervereinigung Rodenkirchen - ECPv6.15.20//NONSGML v1.0//EN
CALSCALE:GREGORIAN
METHOD:PUBLISH
X-WR-CALNAME:Bürgervereinigung Rodenkirchen
X-ORIGINAL-URL:https://www.buergervereinigung-rodenkirchen.de
X-WR-CALDESC:Veranstaltungen für Bürgervereinigung Rodenkirchen
REFRESH-INTERVAL;VALUE=DURATION:PT1H
X-Robots-Tag:noindex
X-PUBLISHED-TTL:PT1H
BEGIN:VTIMEZONE
TZID:Europe/Berlin
BEGIN:DAYLIGHT
TZOFFSETFROM:+0100
TZOFFSETTO:+0200
TZNAME:CEST
DTSTART:20250330T010000
END:DAYLIGHT
BEGIN:STANDARD
TZOFFSETFROM:+0200
TZOFFSETTO:+0100
TZNAME:CET
DTSTART:20251026T010000
END:STANDARD
BEGIN:DAYLIGHT
TZOFFSETFROM:+0100
TZOFFSETTO:+0200
TZNAME:CEST
DTSTART:20260329T010000
END:DAYLIGHT
BEGIN:STANDARD
TZOFFSETFROM:+0200
TZOFFSETTO:+0100
TZNAME:CET
DTSTART:20261025T010000
END:STANDARD
BEGIN:DAYLIGHT
TZOFFSETFROM:+0100
TZOFFSETTO:+0200
TZNAME:CEST
DTSTART:20270328T010000
END:DAYLIGHT
BEGIN:STANDARD
TZOFFSETFROM:+0200
TZOFFSETTO:+0100
TZNAME:CET
DTSTART:20271031T010000
END:STANDARD
END:VTIMEZONE
BEGIN:VEVENT
DTSTART;TZID=Europe/Berlin:20260215T130000
DTEND;TZID=Europe/Berlin:20260215T170000
DTSTAMP:20260422T192554
CREATED:20260126T171224Z
LAST-MODIFIED:20260126T171224Z
UID:16687-1771160400-1771174800@www.buergervereinigung-rodenkirchen.de
SUMMARY:Karneval 2026: Bierwagen und jecke Stimmung
DESCRIPTION:Am Karnevalssonntag\, 15. Februar 2026 lädt die Bürgervereinigung Rodenkirchen zum Karnevalsfeiern ein. \nDer Rodenkirchener Karnevalszug kommt: Die Bürgervereinigung Rodenkirchen freut sich über alle Jeckinnen und Jecken\, die am Sonntag\, 15. Februar 2026 zum Rodenkirchener Karnevalszug kommen\, im Zug mitgehen\, Fastelovend feiern und bei uns am Bierwagen vorbeikommen. In der Zeit von 13 Uhr bis ca. 17 Uhr werden am Maternusplatz Getränke ausgeschenkt. Unter dem Motto „Drink doch eine met“ laden wir alle Karnevalsfeiernden vor und nach dem Zoch zu unserem Stand am Maternusplatz ein. Es gibt Kölsch\, Piccolos und Alkoholfreies zu volkstümlichen Preisen sowie Sitzplätze rund um den Stand. Damit eine gute Gelegenheit\, Bekannte zu treffen und mit dem Vorstand der Bürgervereinigung zu plaudern! \nWie in den letzten Jahren auch: Die mobilen Toiletten\, umgangssprachlich Dixis genannt\, werden für die Karnevalisten aus den Erlösen des Getränkeverkaufs finanziert. \nNeu ist: Auf Bitte des Festkomitees gibt es in diesem Jahr einen zweiten Bierwagen am Barbaraplätzchen/Ecke Hauptstraße. So kann der Verein doppelt so viele mobile Toiletten verglichen zum letzten Jahr – auch verstärkt entlang des Zugwegs Maternusstraße / Brückenstraße – aufstellen. Die Jecken werden es danken\, wenn das Warten vor dem „begehrten Ort“ kürzer ausfällt. \nDer Rodenkirchener Karnevalszug „kütt“\nDie Zugaufstellung findet auch dieses Mal voraussichtlich auf der Grüngürtelstraße ab Auenweg statt. Dann geht es über den gewohnten Weg über die Weißer Straße\, Hauptstraße\, Maternusstraße und rechts auf die Brückenstraße\, wo sich der Zug Höhe Frankstraße auflöst. \nApropos Brückenstraße\, all denen es auf der Hauptstraße bzw. am Maternusplatz zu voll ist: Die Brückenstraße bietet reichlich Gelegenheit Kamelle zu fangen. Besonders mit kleinen Kindern ist es hier nicht so eng. \nWir freuen uns auf eine jecke Zeit! \nMehr Infos zum Zugweg auf https://karneval-rodenkirchen.de/
URL:https://www.buergervereinigung-rodenkirchen.de/event/karneval-2026-bierwagen-und-jecke-stimmung
LOCATION:Maternusplatz\, Maternusplatz\, Köln\, 50996
CATEGORIES:Veranstaltung
END:VEVENT
END:VCALENDAR