BEGIN:VCALENDAR
VERSION:2.0
PRODID:-//Bürgervereinigung Rodenkirchen - ECPv6.15.20//NONSGML v1.0//EN
CALSCALE:GREGORIAN
METHOD:PUBLISH
X-WR-CALNAME:Bürgervereinigung Rodenkirchen
X-ORIGINAL-URL:https://www.buergervereinigung-rodenkirchen.de
X-WR-CALDESC:Veranstaltungen für Bürgervereinigung Rodenkirchen
REFRESH-INTERVAL;VALUE=DURATION:PT1H
X-Robots-Tag:noindex
X-PUBLISHED-TTL:PT1H
BEGIN:VTIMEZONE
TZID:Europe/Berlin
BEGIN:DAYLIGHT
TZOFFSETFROM:+0100
TZOFFSETTO:+0200
TZNAME:CEST
DTSTART:20250330T010000
END:DAYLIGHT
BEGIN:STANDARD
TZOFFSETFROM:+0200
TZOFFSETTO:+0100
TZNAME:CET
DTSTART:20251026T010000
END:STANDARD
BEGIN:DAYLIGHT
TZOFFSETFROM:+0100
TZOFFSETTO:+0200
TZNAME:CEST
DTSTART:20260329T010000
END:DAYLIGHT
BEGIN:STANDARD
TZOFFSETFROM:+0200
TZOFFSETTO:+0100
TZNAME:CET
DTSTART:20261025T010000
END:STANDARD
BEGIN:DAYLIGHT
TZOFFSETFROM:+0100
TZOFFSETTO:+0200
TZNAME:CEST
DTSTART:20270328T010000
END:DAYLIGHT
BEGIN:STANDARD
TZOFFSETFROM:+0200
TZOFFSETTO:+0100
TZNAME:CET
DTSTART:20271031T010000
END:STANDARD
END:VTIMEZONE
BEGIN:VEVENT
DTSTART;TZID=Europe/Berlin:20260204T140000
DTEND;TZID=Europe/Berlin:20260204T153000
DTSTAMP:20260425T140905
CREATED:20260103T100845Z
LAST-MODIFIED:20260115T090141Z
UID:16503-1770213600-1770219000@www.buergervereinigung-rodenkirchen.de
SUMMARY:Führung St. Gereon Kirchen in Köln - Ausgebucht
DESCRIPTION:Die St. Gereon Kirche in Köln\, wie sie von der künstlichen Intelligenz (KI/AI) gesehen wird. \nDie Bürgervereinigung Rodenkirchen lädt Interessierte zu einer exklusiven Führung durch die beeindruckende St. Gereon Kirche in Köln ein – eine der außergewöhnlichsten und historisch bedeutsamsten romanischen Kirchen der Stadt. Die Führung findet am Mittwoch\, 4. Februar 2026 von 14 bis 15:30 Uhr statt. Dr. Ulrich Bock führt die Gruppe und wird die spannende Geschichte dieses architektonischen Meisterwerks fachkundig erläutern. \nEs können max. 30 Personen teilnehmen. Mitglieder der Bürgervereinigung Rodenkirchen zahlen 5 €\, Nicht-Mitglieder 10 €. Eine Anmeldung ist unbedingt erforderlich. Wenn hier keine Karten mehr zur Verfügung stehen\, ist die Führung somit ausgebucht. \nTreffen um 13.45 Uhr am Eingang der Kirche St. Gereon\, Gereonskloster 2\, 50670 Köln [u.a. KVB-Haltestellen Appellhofplatz (16) oder Christophstr./Mediapark (15)] \nAnmeldung / Tickets  \nÜber die Kirche St. Gereon\nSt. Gereon gehört zu den ältesten Kirchen in Deutschland\, zu den einzigartigen 12 romanischen Kirchen Kölns und ist zudem berühmt für seinen zehneckigen großen Kuppelbau\, dem Dekagon. \nIhre Geschichte reicht weit zurück bis ins 4. Jahrhundert n. Chr.\, in dem auf einem römischen Grabbau ein monumentaler ovaler Bau entstand. Neben dem Stück Mosaikboden ist noch das Mauerwerk erhalten sowie die sogenannte „Blutsäule“ aus Granit\, die der Legende nach zwischen Gut und Böse zu entscheiden kann. \nSt. Gereon ist nicht nur eine katholische Kirche\, sondern vielmehr ein herausragendes Beispiel spätantiker und mittelalterlicher Baukunst\, das in seiner Form einzigartig ist. \nEinzigartige Architektur von St. Gereon: Das Dekagon\nDas Herzstück der Kirche ist das sogenannte Dekagon – ein zehnseitiger Zentralbau. Dieser Bau geht auf einen spätantiken römischen Zentralbau aus dem 4. Jahrhundert zurück\, der vermutlich als Mausoleum oder als Kultraum für eine christliche Gemeinde diente. Damit steht St. Gereon in einer direkten Verbindung zur frühchristlichen Geschichte Kölns\, als die Stadt noch die römische Provinzhauptstadt Colonia Claudia Ara Agrippinensium war.
URL:https://www.buergervereinigung-rodenkirchen.de/event/fuehrung-st-gereon-kirchen-in-koeln
LOCATION:St. Gereon Köln\, Gereonshof 2\, Köln\, 50670
ATTACH;FMTTYPE=image/jpeg:https://www.buergervereinigung-rodenkirchen.de/wp-content/uploads/2025/12/gereon_Gemini_Generated__web.jpg
END:VEVENT
END:VCALENDAR