BEGIN:VCALENDAR
VERSION:2.0
PRODID:-//Bürgervereinigung Rodenkirchen - ECPv6.15.20//NONSGML v1.0//EN
CALSCALE:GREGORIAN
METHOD:PUBLISH
X-WR-CALNAME:Bürgervereinigung Rodenkirchen
X-ORIGINAL-URL:https://www.buergervereinigung-rodenkirchen.de
X-WR-CALDESC:Veranstaltungen für Bürgervereinigung Rodenkirchen
REFRESH-INTERVAL;VALUE=DURATION:PT1H
X-Robots-Tag:noindex
X-PUBLISHED-TTL:PT1H
BEGIN:VTIMEZONE
TZID:Europe/Berlin
BEGIN:DAYLIGHT
TZOFFSETFROM:+0100
TZOFFSETTO:+0200
TZNAME:CEST
DTSTART:20240331T010000
END:DAYLIGHT
BEGIN:STANDARD
TZOFFSETFROM:+0200
TZOFFSETTO:+0100
TZNAME:CET
DTSTART:20241027T010000
END:STANDARD
BEGIN:DAYLIGHT
TZOFFSETFROM:+0100
TZOFFSETTO:+0200
TZNAME:CEST
DTSTART:20250330T010000
END:DAYLIGHT
BEGIN:STANDARD
TZOFFSETFROM:+0200
TZOFFSETTO:+0100
TZNAME:CET
DTSTART:20251026T010000
END:STANDARD
BEGIN:DAYLIGHT
TZOFFSETFROM:+0100
TZOFFSETTO:+0200
TZNAME:CEST
DTSTART:20260329T010000
END:DAYLIGHT
BEGIN:STANDARD
TZOFFSETFROM:+0200
TZOFFSETTO:+0100
TZNAME:CET
DTSTART:20261025T010000
END:STANDARD
END:VTIMEZONE
BEGIN:VEVENT
DTSTART;TZID=Europe/Berlin:20250827T190000
DTEND;TZID=Europe/Berlin:20250827T213000
DTSTAMP:20260426T012515
CREATED:20250731T081140Z
LAST-MODIFIED:20250814T153304Z
UID:16188-1756321200-1756330200@www.buergervereinigung-rodenkirchen.de
SUMMARY:OB-Kandidaten für Köln stellen sich in Rodenkirchen vor - Ausgebucht für Nicht-Mitglieder
DESCRIPTION:Zehn Kandidierende fürs Oberbürgermeisteramt Köln stellen sich auf Einladung der Bürgervereinigung Rodenkirchen am 27.8.2025 vor. \nZehn Kandidierende für das Oberbürgermeisteramt in Köln stellen sich auf Einladung der Bürgervereinigung Rodenkirchen vor. Mit welchen Ideen\, Konzepten und Visionen wollen sie Köln und den Bezirk Rodenkirchen nach vorne bringen? Das fragt sich die Bürgervereinigung Rodenkirchen und lädt ihre Vereinsmitglieder am Mittwoch\, 27. August 2025 um 19 Uhr zu einem Diskussionsabend mit Kandidierenden für das Oberbürgermeisteramt ein. \n  \nUPDATE / BITTE BEACHTEN: Es können keine weiteren Anmeldungen von Nicht-Mitgliedern entgegegengenommen werden! (6.8.2025) \nDer Abend findet statt in der Aula Berufsförderungswerk der Diakonie Michaelshoven (Martinsweg 11\, 50999 Köln). Anfahrtsbeschreibung und Informationen zu Parkmöglichkeiten \nDa die Plätze in der Aula begrenzt sind\, ist eine Anmeldung per E-Mail an info@buergervereinigung-rodenkirchen.de mit Angabe des Vor- und Zunamens\, Adresse und Personenzahl erforderlich. Anmeldungen von unseren Vereinsmitgliedern werden zuerst berücksichtigt. Falls noch Plätze frei sind\, können weitere Gäste\, die sich angemeldet haben\, an unserer Veranstaltung teilnehmen. Sie erhalten von uns eine Anmeldebestätigung. \nDiskussionsabend Kandidierende fürs Oberbürgermeisteramt Köln stellen sich vor\nModeriert wird die Podiumsdiskussion von Ilka Eßmüller\, bekannt aus dem RTL-Nachtjournal. \nDie Veranstaltung teilen wir in zwei Teile. Im ersten Teil stellen sich alle teilnehmenden OB-Kandierenden vor und beantworten kurz eine Frage. Im zweiten Teil sind die Kandidierenden dezentral an Stehtischen im Raum und Foyer verteilt. So haben alle Gäste die Möglichkeit mit allen Kandidatinnen und Kandidaten direkt ins Gespräch zu kommen und erhalten Antworten auf ihre Fragen. \nNachfolgende Kandidierende wurden eingeladen und haben zugesagt: \nBerivan Aymaz (Bündnis 90/Die Grünen) \nMark Benecke (Die Partei) \nTorsten Burmester (SPD) \nRoberto Campione (Kölner Stadt-Gesellschaft) \nInga Feuser (Wählergruppe „Gut und Klima-Freunde“) \nVolker Görzel (FDP) \nMarkus Greitemann (CDU) \nHeiner Kockerbeck (Die Linke) \nPfarrer Hans Mörtter (parteilos) \nLars Wolfram (Volt) \nAm 14. September 2025 steht dann in Nordrhein-Westfalen die die Kommunalwahl an. So auch in Köln. Gewählt werden dann der Oberbürgermeister oder die Oberbürgermeisterin\, der Rat und die Bezirksvertretungen. Zeitgleich wird der Integrationsrat gewählt. Er ist die kommunale Vertretung von Menschen mit internationaler Familiengeschichte.
URL:https://www.buergervereinigung-rodenkirchen.de/event/ob-kandidaten-fuer-koeln-stellen-sich-in-rodenkirchen-vor
LOCATION:Berufsbildungswerk Michaelshoven\, Martinsweg 11\, Köln\, NRW\, 50999\, Deutschland
CATEGORIES:Veranstaltung
ATTACH;FMTTYPE=image/jpeg:https://www.buergervereinigung-rodenkirchen.de/wp-content/uploads/2025/08/podiumsdiskussion_2.jpg
END:VEVENT
END:VCALENDAR