BEGIN:VCALENDAR
VERSION:2.0
PRODID:-//Bürgervereinigung Rodenkirchen - ECPv6.15.20//NONSGML v1.0//EN
CALSCALE:GREGORIAN
METHOD:PUBLISH
X-WR-CALNAME:Bürgervereinigung Rodenkirchen
X-ORIGINAL-URL:https://www.buergervereinigung-rodenkirchen.de
X-WR-CALDESC:Veranstaltungen für Bürgervereinigung Rodenkirchen
REFRESH-INTERVAL;VALUE=DURATION:PT1H
X-Robots-Tag:noindex
X-PUBLISHED-TTL:PT1H
BEGIN:VTIMEZONE
TZID:Europe/Berlin
BEGIN:DAYLIGHT
TZOFFSETFROM:+0100
TZOFFSETTO:+0200
TZNAME:CEST
DTSTART:20240331T010000
END:DAYLIGHT
BEGIN:STANDARD
TZOFFSETFROM:+0200
TZOFFSETTO:+0100
TZNAME:CET
DTSTART:20241027T010000
END:STANDARD
BEGIN:DAYLIGHT
TZOFFSETFROM:+0100
TZOFFSETTO:+0200
TZNAME:CEST
DTSTART:20250330T010000
END:DAYLIGHT
BEGIN:STANDARD
TZOFFSETFROM:+0200
TZOFFSETTO:+0100
TZNAME:CET
DTSTART:20251026T010000
END:STANDARD
BEGIN:DAYLIGHT
TZOFFSETFROM:+0100
TZOFFSETTO:+0200
TZNAME:CEST
DTSTART:20260329T010000
END:DAYLIGHT
BEGIN:STANDARD
TZOFFSETFROM:+0200
TZOFFSETTO:+0100
TZNAME:CET
DTSTART:20261025T010000
END:STANDARD
END:VTIMEZONE
BEGIN:VEVENT
DTSTART;TZID=Europe/Berlin:20250505T140000
DTEND;TZID=Europe/Berlin:20250505T163000
DTSTAMP:20260426T063645
CREATED:20250410T160947Z
LAST-MODIFIED:20250410T160947Z
UID:14432-1746453600-1746462600@www.buergervereinigung-rodenkirchen.de
SUMMARY:Führung durch den blühenden FoBo
DESCRIPTION:Am 5.5.25 lädt die Bürgervereinigung zur Führung durch den Forstbotanischen Garten Rodenkirchen ein \nDer Forstbotanische Garten in Rodenkirchen ist im Frühjahr immer ein besonderes Naturerlebnis mit seiner Blütenpracht und den blühenden Rhododendren. Die Bürgervereinigung Rodenkirchen lädt am Montag\, 5. Mai 2025 um 14 Uhr zu einer kostenlosen Führung durch den Forstbotanischen Garten ein. Eine vorherige Anmeldung ist erforderlich\, es können maximal 50 Gäste teilnehmen. \nAnmeldung  \nZur Führung Forstbotanischer Garten Rodenkirchen trifft sich die Gruppe um 13.45 Uhr am Unterstellpilz (im botanischen Teil). Die Führung dauert gut 1\,5 Stunden\, festes Schuhwerk empfehlenswert\, die Wege sind nicht barrierefrei. Bitte kalkulieren Sie etwa 10 Minuten Fußweg vom Parkplatz bis zum Treffpunkt. \nRalf Maiwald von der städtischen Forstverwaltung und sein Kollege werden die Führung in zwei Gruppen leiten. Sie berichten über die Geschichte des Forstbotanischen Gartens\, die Tierwelt und geben auch Tipps für den eignen Garten. \nForstbotanischer Garten in Rodenkirchen lockt mit bunter Blütenpracht & Tieren\nGäste erleben einen leuchtenden Blütenteppich in allen Schattierungen von Rosa\, Blauviolett\, Weiß und Gelb. Auch die japanische Abteilung mit Azaleen ist zu dieser Jahreszeit besonders sehenswert. \nBeachtenswert ist zudem die Baumartenvielfalt\, u.a. mit Mammutbäumen und auch die Tierwelt wie Pfaue\, exotische Vögel und andere Wildtiere. \nAuch die Geschichte des Forstbotanischen Gartens in Rodenkirchen\, kurz FoBo genannt\, ist spannend: Denn hier war im 1. Weltkrieg ein Infanterie-Stützpunkt\, genau da wo heute die Rhododendronschlucht ist. \nWie immer gilt: Keiner kann garantieren\, dass alle Rhododendren-Arten noch in voller Pracht blühen. \nÜber die Geschichte des Forstbotanische Garten Rodenkirchen erfahren Interessierte auf den Seiten der Stadt Köln mehr https://www.stadt-koeln.de/artikel/05258/index.html
URL:https://www.buergervereinigung-rodenkirchen.de/event/fuehrung-durch-den-bluehenden-fobo
LOCATION:Forstbotanischer Garten Rodenkirchen\, Schillingsrotter Str. 100\, Köln\, 50996
CATEGORIES:Führung
ATTACH;FMTTYPE=image/jpeg:https://www.buergervereinigung-rodenkirchen.de/wp-content/uploads/2025/04/forstbotanischer_garten_rodenkirchen_termin-5.5.25.jpg
END:VEVENT
END:VCALENDAR